BEGIN:VCALENDAR
VERSION:2.0
PRODID:-//Sabre//Sabre VObject 4.5.8//EN
CALSCALE:GREGORIAN
BEGIN:VEVENT
UID:sabre-vobject-ad645b18-416e-4607-b044-ea72e41d45c5
DTSTAMP:20260424T210130Z
SUMMARY:Demon Acres
DESCRIPTION:A spooktacular trip to Syracuse\, NY with ODR!\n
X-ALT-DESC:FMTTYPE=text/html:<!DOCTYPE HTML PUBLIC "-//W3C//DTD HTML 3.2//E
 N"><HTML><p>A spooktacular trip to Syracuse\, NY with ODR!</p>\n</HTML>
CREATED;TZID=America/New_York:20250915T134124
URL;VALUE=URI:https://drum.armymwr.com/calendar/event
DTSTART;TZID=America/New_York:20251011T170000
DTEND;TZID=America/New_York:20251012T000000
SEQUENCE:0
END:VEVENT
END:VCALENDAR
