BEGIN:VCALENDAR
VERSION:2.0
PRODID:-//Sabre//Sabre VObject 4.5.8//EN
CALSCALE:GREGORIAN
BEGIN:VEVENT
UID:sabre-vobject-ed76ccd2-5c14-4aa8-81f5-bfb71552385c
DTSTAMP:20260421T132719Z
SUMMARY:Hot Pilates
DESCRIPTION:
X-ALT-DESC:FMTTYPE=text/html:<!DOCTYPE HTML PUBLIC "-//W3C//DTD HTML 3.2//E
 N"><HTML></HTML>
CREATED;TZID=America/New_York:20260107T082743
URL;VALUE=URI:https://drum.armymwr.com/calendar/event
DTSTART;TZID=America/New_York:20260105T103000
DTEND;TZID=America/New_York:20260105T113000
SEQUENCE:0
END:VEVENT
BEGIN:VEVENT
UID:sabre-vobject-6d51038e-60a3-4a31-a8cc-0f0ccd92208e
DTSTAMP:20260421T132719Z
SUMMARY:Hot Pilates
DESCRIPTION:
X-ALT-DESC:FMTTYPE=text/html:<!DOCTYPE HTML PUBLIC "-//W3C//DTD HTML 3.2//E
 N"><HTML></HTML>
CREATED;TZID=America/New_York:20260107T082743
URL;VALUE=URI:https://drum.armymwr.com/calendar/event
DTSTART;TZID=America/New_York:20260108T173000
DTEND;TZID=America/New_York:20260108T183000
SEQUENCE:1
END:VEVENT
END:VCALENDAR
