BEGIN:VCALENDAR
VERSION:2.0
PRODID:-//Sabre//Sabre VObject 4.5.8//EN
CALSCALE:GREGORIAN
BEGIN:VEVENT
UID:sabre-vobject-a5bb5d5c-bd5a-4503-bdbd-c6dde39c8e70
DTSTAMP:20260420T234916Z
SUMMARY:Homeschool Lit Club
DESCRIPTION:
X-ALT-DESC:FMTTYPE=text/html:<!DOCTYPE HTML PUBLIC "-//W3C//DTD HTML 3.2//E
 N"><HTML></HTML>
CREATED;TZID=America/New_York:20260330T114018
URL;VALUE=URI:https://drum.armymwr.com/calendar/event
DTSTART;TZID=America/New_York:20260402T133000
DTEND;TZID=America/New_York:20260402T143000
SEQUENCE:0
END:VEVENT
BEGIN:VEVENT
UID:sabre-vobject-45024ad8-1faf-40ab-938f-7e82fd4ad908
DTSTAMP:20260420T234916Z
SUMMARY:Homeschool Lit Club
DESCRIPTION:
X-ALT-DESC:FMTTYPE=text/html:<!DOCTYPE HTML PUBLIC "-//W3C//DTD HTML 3.2//E
 N"><HTML></HTML>
CREATED;TZID=America/New_York:20260330T114018
URL;VALUE=URI:https://drum.armymwr.com/calendar/event
DTSTART;TZID=America/New_York:20260416T133000
DTEND;TZID=America/New_York:20260416T143000
SEQUENCE:1
END:VEVENT
END:VCALENDAR
