BEGIN:VCALENDAR
VERSION:2.0
PRODID:-//Sabre//Sabre VObject 4.5.8//EN
CALSCALE:GREGORIAN
BEGIN:VEVENT
UID:sabre-vobject-ef798c62-0d73-4f8c-920c-8abc9044692e
DTSTAMP:20260421T004052Z
SUMMARY:Cycling
DESCRIPTION:
X-ALT-DESC:FMTTYPE=text/html:<!DOCTYPE HTML PUBLIC "-//W3C//DTD HTML 3.2//E
 N"><HTML></HTML>
CREATED;TZID=America/New_York:20260225T082915
URL;VALUE=URI:https://drum.armymwr.com/calendar/event
DTSTART;TZID=America/New_York:20260304T180000
DTEND;TZID=America/New_York:20260304T190000
SEQUENCE:0
END:VEVENT
BEGIN:VEVENT
UID:sabre-vobject-ebfbbe43-b535-4128-bf2e-3b23426e983d
DTSTAMP:20260421T004052Z
SUMMARY:Cycling
DESCRIPTION:
X-ALT-DESC:FMTTYPE=text/html:<!DOCTYPE HTML PUBLIC "-//W3C//DTD HTML 3.2//E
 N"><HTML></HTML>
CREATED;TZID=America/New_York:20260225T082915
URL;VALUE=URI:https://drum.armymwr.com/calendar/event
DTSTART;TZID=America/New_York:20260318T180000
DTEND;TZID=America/New_York:20260318T190000
SEQUENCE:1
END:VEVENT
END:VCALENDAR
