BEGIN:VCALENDAR
VERSION:2.0
PRODID:-//Sabre//Sabre VObject 4.5.8//EN
CALSCALE:GREGORIAN
BEGIN:VEVENT
UID:sabre-vobject-94e66faa-7341-4771-9d60-906f77adc4f2
DTSTAMP:20260423T100440Z
SUMMARY:Turkey Burn Spin Class
DESCRIPTION:
X-ALT-DESC:FMTTYPE=text/html:<!DOCTYPE HTML PUBLIC "-//W3C//DTD HTML 3.2//E
 N"><HTML></HTML>
CREATED;TZID=America/New_York:20251105T092558
URL;VALUE=URI:https://drum.armymwr.com/calendar/event
DTSTART;TZID=America/New_York:20251126T173000
DTEND;TZID=America/New_York:20251126T183000
SEQUENCE:0
END:VEVENT
END:VCALENDAR
