BEGIN:VCALENDAR
VERSION:2.0
PRODID:-//Sabre//Sabre VObject 4.5.8//EN
CALSCALE:GREGORIAN
BEGIN:VEVENT
UID:sabre-vobject-8cc76f2c-c14f-417d-b6bd-48908291a501
DTSTAMP:20260423T051122Z
SUMMARY:Trees For Troops
DESCRIPTION:Free Christmas Tree Giveaway!\n
X-ALT-DESC:FMTTYPE=text/html:<!DOCTYPE HTML PUBLIC "-//W3C//DTD HTML 3.2//E
 N"><HTML><p>Free Christmas Tree Giveaway!</p>\n</HTML>
CREATED;TZID=America/New_York:20251114T150441
URL;VALUE=URI:https://drum.armymwr.com/calendar/event
DTSTART;TZID=America/New_York:20251205T090000
DTEND;TZID=America/New_York:20251205T160000
SEQUENCE:0
END:VEVENT
BEGIN:VEVENT
UID:sabre-vobject-c9bbfbfc-19da-4945-b949-30c01a781b89
DTSTAMP:20260423T051122Z
SUMMARY:Trees For Troops
DESCRIPTION:Free Christmas Tree Giveaway!\n
X-ALT-DESC:FMTTYPE=text/html:<!DOCTYPE HTML PUBLIC "-//W3C//DTD HTML 3.2//E
 N"><HTML><p>Free Christmas Tree Giveaway!</p>\n</HTML>
CREATED;TZID=America/New_York:20251114T150441
URL;VALUE=URI:https://drum.armymwr.com/calendar/event
DTSTART;TZID=America/New_York:20251206T090000
DTEND;TZID=America/New_York:20251206T160000
SEQUENCE:1
END:VEVENT
END:VCALENDAR
