BEGIN:VCALENDAR
VERSION:2.0
PRODID:-//Sabre//Sabre VObject 4.5.8//EN
CALSCALE:GREGORIAN
BEGIN:VEVENT
UID:sabre-vobject-706e4763-7e18-421c-ab64-aa3d5ad0c3de
DTSTAMP:20260420T170152Z
SUMMARY:Darts League
DESCRIPTION:Every Thursday!\n
X-ALT-DESC:FMTTYPE=text/html:<!DOCTYPE HTML PUBLIC "-//W3C//DTD HTML 3.2//E
 N"><HTML><p>Every Thursday!</p>\n</HTML>
CREATED;TZID=America/New_York:20260106T150729
URL;VALUE=URI:https://drum.armymwr.com/calendar/event
DTSTART;TZID=America/New_York:20260219T180000
DTEND;TZID=America/New_York:20260219T190000
SEQUENCE:0
END:VEVENT
END:VCALENDAR
