BEGIN:VCALENDAR
VERSION:2.0
PRODID:-//Sabre//Sabre VObject 4.5.8//EN
CALSCALE:GREGORIAN
BEGIN:VEVENT
UID:sabre-vobject-12831b3a-94b1-443d-a2cd-04ac5d1302d1
DTSTAMP:20260420T191632Z
SUMMARY:Zumba
DESCRIPTION:
X-ALT-DESC:FMTTYPE=text/html:<!DOCTYPE HTML PUBLIC "-//W3C//DTD HTML 3.2//E
 N"><HTML></HTML>
CREATED;TZID=America/New_York:20260225T084622
URL;VALUE=URI:https://drum.armymwr.com/calendar/event
DTSTART;TZID=America/New_York:20260312T103000
DTEND;TZID=America/New_York:20260312T113000
SEQUENCE:0
END:VEVENT
BEGIN:VEVENT
UID:sabre-vobject-545714e7-7319-4b5a-9aea-7ae30869a6e7
DTSTAMP:20260420T191632Z
SUMMARY:Zumba
DESCRIPTION:
X-ALT-DESC:FMTTYPE=text/html:<!DOCTYPE HTML PUBLIC "-//W3C//DTD HTML 3.2//E
 N"><HTML></HTML>
CREATED;TZID=America/New_York:20260225T084622
URL;VALUE=URI:https://drum.armymwr.com/calendar/event
DTSTART;TZID=America/New_York:20260319T103000
DTEND;TZID=America/New_York:20260319T113000
SEQUENCE:1
END:VEVENT
BEGIN:VEVENT
UID:sabre-vobject-2c8736a1-fb1a-4973-b126-e7cff7426fe3
DTSTAMP:20260420T191632Z
SUMMARY:Zumba
DESCRIPTION:
X-ALT-DESC:FMTTYPE=text/html:<!DOCTYPE HTML PUBLIC "-//W3C//DTD HTML 3.2//E
 N"><HTML></HTML>
CREATED;TZID=America/New_York:20260225T084622
URL;VALUE=URI:https://drum.armymwr.com/calendar/event
DTSTART;TZID=America/New_York:20260316T103000
DTEND;TZID=America/New_York:20260316T113000
SEQUENCE:2
END:VEVENT
END:VCALENDAR
