BEGIN:VCALENDAR
VERSION:2.0
PRODID:-//Sabre//Sabre VObject 4.5.8//EN
CALSCALE:GREGORIAN
BEGIN:VEVENT
UID:sabre-vobject-f50ab7b4-e058-491f-a17c-5f1ea5b154d8
DTSTAMP:20260419T184924Z
SUMMARY:Plank-A-Palooza
DESCRIPTION:Do you have what it takes to plank?\n
X-ALT-DESC:FMTTYPE=text/html:<!DOCTYPE HTML PUBLIC "-//W3C//DTD HTML 3.2//E
 N"><HTML><p>Do you have what it takes to plank?</p>\n</HTML>
CREATED;TZID=America/New_York:20260225T085046
URL;VALUE=URI:https://drum.armymwr.com/calendar/event
DTSTART;TZID=America/New_York:20260323T000000
DTEND;TZID=America/New_York:20260324T235959
SEQUENCE:0
END:VEVENT
END:VCALENDAR
