BEGIN:VCALENDAR
VERSION:2.0
PRODID:-//Sabre//Sabre VObject 4.5.8//EN
CALSCALE:GREGORIAN
BEGIN:VEVENT
UID:sabre-vobject-6d43c6df-cd76-4b0d-bb39-c9b7c5d8a5c5
DTSTAMP:20260420T170118Z
SUMMARY:Shamrock Shred Spin Class
DESCRIPTION:Just your luck with class is FREE!\n
X-ALT-DESC:FMTTYPE=text/html:<!DOCTYPE HTML PUBLIC "-//W3C//DTD HTML 3.2//E
 N"><HTML><p>Just your luck with class is FREE!</p>\n</HTML>
CREATED;TZID=America/New_York:20260225T085329
URL;VALUE=URI:https://drum.armymwr.com/calendar/event
DTSTART;TZID=America/New_York:20260319T093000
DTEND;TZID=America/New_York:20260319T103000
SEQUENCE:0
END:VEVENT
END:VCALENDAR
