BEGIN:VCALENDAR
VERSION:2.0
PRODID:-//Sabre//Sabre VObject 4.5.8//EN
CALSCALE:GREGORIAN
BEGIN:VEVENT
UID:sabre-vobject-be910518-0f75-4016-90c2-74c785e54bec
DTSTAMP:20260419T211655Z
SUMMARY:Indoor Rock Climbing Adventure
DESCRIPTION:
X-ALT-DESC:FMTTYPE=text/html:<!DOCTYPE HTML PUBLIC "-//W3C//DTD HTML 3.2//E
 N"><HTML></HTML>
CREATED;TZID=America/New_York:20260302T094505
URL;VALUE=URI:https://drum.armymwr.com/calendar/event
DTSTART;TZID=America/New_York:20260328T080000
DTEND;TZID=America/New_York:20260328T150000
SEQUENCE:0
END:VEVENT
END:VCALENDAR
