BEGIN:VCALENDAR
VERSION:2.0
PRODID:-//Sabre//Sabre VObject 4.5.8//EN
CALSCALE:GREGORIAN
BEGIN:VEVENT
UID:sabre-vobject-77a525e7-4e0b-48f5-8922-0a2908331151
DTSTAMP:20260420T165508Z
SUMMARY:Tote Painting
DESCRIPTION:18+ Only.\n
X-ALT-DESC:FMTTYPE=text/html:<!DOCTYPE HTML PUBLIC "-//W3C//DTD HTML 3.2//E
 N"><HTML><p>18+ Only.</p>\n</HTML>
CREATED;TZID=America/New_York:20260302T101428
URL;VALUE=URI:https://drum.armymwr.com/calendar/event
DTSTART;TZID=America/New_York:20260317T170000
DTEND;TZID=America/New_York:20260317T180000
SEQUENCE:0
END:VEVENT
END:VCALENDAR
