BEGIN:VCALENDAR
VERSION:2.0
PRODID:-//Sabre//Sabre VObject 4.5.8//EN
CALSCALE:GREGORIAN
BEGIN:VEVENT
UID:sabre-vobject-83323ce7-9345-49e1-a6ea-deab2d488862
DTSTAMP:20260424T144932Z
SUMMARY:Family Game Night
DESCRIPTION:
X-ALT-DESC:FMTTYPE=text/html:<!DOCTYPE HTML PUBLIC "-//W3C//DTD HTML 3.2//E
 N"><HTML></HTML>
CREATED;TZID=America/New_York:20260327T091824
URL;VALUE=URI:https://drum.armymwr.com/calendar/event
DTSTART;TZID=America/New_York:20260421T170000
DTEND;TZID=America/New_York:20260421T183000
SEQUENCE:0
END:VEVENT
END:VCALENDAR
