BEGIN:VCALENDAR
VERSION:2.0
PRODID:-//Sabre//Sabre VObject 4.5.8//EN
CALSCALE:GREGORIAN
BEGIN:VEVENT
UID:sabre-vobject-3de288af-99bb-468f-ae3b-02d9c1f997b3
DTSTAMP:20260420T170115Z
SUMMARY:Sensory Adventures with EFMP
DESCRIPTION:
X-ALT-DESC:FMTTYPE=text/html:<!DOCTYPE HTML PUBLIC "-//W3C//DTD HTML 3.2//E
 N"><HTML></HTML>
CREATED;TZID=America/New_York:20260302T102126
URL;VALUE=URI:https://drum.armymwr.com/calendar/event
DTSTART;TZID=America/New_York:20260318T100000
DTEND;TZID=America/New_York:20260318T110000
SEQUENCE:0
END:VEVENT
END:VCALENDAR
