BEGIN:VCALENDAR
VERSION:2.0
PRODID:-//Sabre//Sabre VObject 4.5.8//EN
CALSCALE:GREGORIAN
BEGIN:VEVENT
UID:sabre-vobject-1460a110-ff41-4dba-af44-d15ddfa1c634
DTSTAMP:20260420T170148Z
SUMMARY:Pet 5K
DESCRIPTION:This one is for our paw-fect furry friends!\n
X-ALT-DESC:FMTTYPE=text/html:<!DOCTYPE HTML PUBLIC "-//W3C//DTD HTML 3.2//E
 N"><HTML><p>This one is for our paw-fect furry friends!</p>\n</HTML>
CREATED;TZID=America/New_York:20260302T144307
URL;VALUE=URI:https://drum.armymwr.com/calendar/event
DTSTART;TZID=America/New_York:20260613T110000
DTEND;TZID=America/New_York:20260613T120000
SEQUENCE:0
END:VEVENT
END:VCALENDAR
