BEGIN:VCALENDAR
VERSION:2.0
PRODID:-//Sabre//Sabre VObject 4.5.8//EN
CALSCALE:GREGORIAN
BEGIN:VEVENT
UID:sabre-vobject-b7de29a2-ecf0-4ea3-8496-3cdda8009b49
DTSTAMP:20260420T234911Z
SUMMARY:Red\, White & Blue 5K
DESCRIPTION:
X-ALT-DESC:FMTTYPE=text/html:<!DOCTYPE HTML PUBLIC "-//W3C//DTD HTML 3.2//E
 N"><HTML></HTML>
CREATED;TZID=America/New_York:20260302T144440
URL;VALUE=URI:https://drum.armymwr.com/calendar/event
DTSTART;TZID=America/New_York:20260703T070000
DTEND;TZID=America/New_York:20260703T080000
SEQUENCE:0
END:VEVENT
END:VCALENDAR
