BEGIN:VCALENDAR
VERSION:2.0
PRODID:-//Sabre//Sabre VObject 4.5.8//EN
CALSCALE:GREGORIAN
BEGIN:VEVENT
UID:sabre-vobject-5348f969-4a3e-473d-a5f1-68bc2d345fab
DTSTAMP:20260419T153601Z
SUMMARY:Story Time with the SLO's
DESCRIPTION:
X-ALT-DESC:FMTTYPE=text/html:<!DOCTYPE HTML PUBLIC "-//W3C//DTD HTML 3.2//E
 N"><HTML></HTML>
CREATED;TZID=America/New_York:20260417T123417
URL;VALUE=URI:https://drum.armymwr.com/calendar/event
DTSTART;TZID=America/New_York:20260512T173000
DTEND;TZID=America/New_York:20260512T183000
SEQUENCE:0
END:VEVENT
END:VCALENDAR
