BEGIN:VCALENDAR
VERSION:2.0
PRODID:-//Sabre//Sabre VObject 4.5.8//EN
CALSCALE:GREGORIAN
BEGIN:VEVENT
UID:sabre-vobject-5cc00137-1184-465d-a96c-c46d7ca87f72
DTSTAMP:20260420T044354Z
SUMMARY:North Country Vine Tour
DESCRIPTION:
X-ALT-DESC:FMTTYPE=text/html:<!DOCTYPE HTML PUBLIC "-//W3C//DTD HTML 3.2//E
 N"><HTML></HTML>
CREATED;TZID=America/New_York:20260417T124835
URL;VALUE=URI:https://drum.armymwr.com/calendar/event
DTSTART;TZID=America/New_York:20260523T133000
DTEND;TZID=America/New_York:20260523T160000
SEQUENCE:0
END:VEVENT
END:VCALENDAR
