BEGIN:VCALENDAR
VERSION:2.0
PRODID:-//Sabre//Sabre VObject 4.5.8//EN
CALSCALE:GREGORIAN
BEGIN:VEVENT
UID:sabre-vobject-a13bba4f-6d99-47a1-8132-e0edf0d2b9ae
DTSTAMP:20260421T023750Z
SUMMARY:Baker Mountain Hike
DESCRIPTION:Part of the Out of Breath Hiking Club!\n
X-ALT-DESC:FMTTYPE=text/html:<!DOCTYPE HTML PUBLIC "-//W3C//DTD HTML 3.2//E
 N"><HTML><p>Part of the Out of Breath Hiking Club!</p>\n</HTML>
CREATED;TZID=America/New_York:20260420T094900
URL;VALUE=URI:https://drum.armymwr.com/calendar/event
DTSTART;TZID=America/New_York:20260627T070000
DTEND;TZID=America/New_York:20260627T120000
SEQUENCE:0
END:VEVENT
END:VCALENDAR
