BEGIN:VCALENDAR
VERSION:2.0
PRODID:-//Sabre//Sabre VObject 4.5.8//EN
CALSCALE:GREGORIAN
BEGIN:VEVENT
UID:sabre-vobject-41c62076-9f04-415b-a184-f0fcd2730389
DTSTAMP:20260421T091538Z
SUMMARY:Tupper Lake Triad Ultra
DESCRIPTION:Part of the Out of Breath Hiking Club!\n
X-ALT-DESC:FMTTYPE=text/html:<!DOCTYPE HTML PUBLIC "-//W3C//DTD HTML 3.2//E
 N"><HTML><p>Part of the Out of Breath Hiking Club!</p>\n</HTML>
CREATED;TZID=America/New_York:20260420T095337
URL;VALUE=URI:https://drum.armymwr.com/calendar/event
DTSTART;TZID=America/New_York:20260718T070000
DTEND;TZID=America/New_York:20260718T170000
SEQUENCE:0
END:VEVENT
END:VCALENDAR
