BEGIN:VCALENDAR
VERSION:2.0
PRODID:-//Sabre//Sabre VObject 4.5.8//EN
CALSCALE:GREGORIAN
BEGIN:VEVENT
UID:sabre-vobject-99520de9-22a3-4858-8c53-5e12c4b3e090
DTSTAMP:20260422T024747Z
SUMMARY:St. Regis Mountain Hike
DESCRIPTION:Part of the Out of Breath Hiking Club!\n
X-ALT-DESC:FMTTYPE=text/html:<!DOCTYPE HTML PUBLIC "-//W3C//DTD HTML 3.2//E
 N"><HTML><p>Part of the Out of Breath Hiking Club!</p>\n</HTML>
CREATED;TZID=America/New_York:20260420T095833
URL;VALUE=URI:https://drum.armymwr.com/calendar/event
DTSTART;TZID=America/New_York:20260801T070000
DTEND;TZID=America/New_York:20260801T140000
SEQUENCE:0
END:VEVENT
END:VCALENDAR
