BEGIN:VCALENDAR
VERSION:2.0
PRODID:-//Sabre//Sabre VObject 4.5.8//EN
CALSCALE:GREGORIAN
BEGIN:VEVENT
UID:sabre-vobject-4297f9fa-ef4b-4975-9a60-d3ae4d43d57d
DTSTAMP:20260419T183431Z
SUMMARY:Tug Hill 4 Wheeler Adventure
DESCRIPTION:
X-ALT-DESC:FMTTYPE=text/html:<!DOCTYPE HTML PUBLIC "-//W3C//DTD HTML 3.2//E
 N"><HTML></HTML>
CREATED;TZID=America/New_York:20260417T141750
URL;VALUE=URI:https://drum.armymwr.com/calendar/event
DTSTART;TZID=America/New_York:20260522T080000
DTEND;TZID=America/New_York:20260522T150000
SEQUENCE:0
END:VEVENT
BEGIN:VEVENT
UID:sabre-vobject-cb6b9cd3-c189-4a76-bfce-46a47032d038
DTSTAMP:20260419T183431Z
SUMMARY:Tug Hill 4 Wheeler Adventure
DESCRIPTION:
X-ALT-DESC:FMTTYPE=text/html:<!DOCTYPE HTML PUBLIC "-//W3C//DTD HTML 3.2//E
 N"><HTML></HTML>
CREATED;TZID=America/New_York:20260417T141750
URL;VALUE=URI:https://drum.armymwr.com/calendar/event
DTSTART;TZID=America/New_York:20260605T080000
DTEND;TZID=America/New_York:20260605T150000
SEQUENCE:1
END:VEVENT
BEGIN:VEVENT
UID:sabre-vobject-d5ce1a55-a775-4c6e-8ac5-b10d2e2706c5
DTSTAMP:20260419T183431Z
SUMMARY:Tug Hill 4 Wheeler Adventure
DESCRIPTION:
X-ALT-DESC:FMTTYPE=text/html:<!DOCTYPE HTML PUBLIC "-//W3C//DTD HTML 3.2//E
 N"><HTML></HTML>
CREATED;TZID=America/New_York:20260417T141750
URL;VALUE=URI:https://drum.armymwr.com/calendar/event
DTSTART;TZID=America/New_York:20260710T080000
DTEND;TZID=America/New_York:20260710T150000
SEQUENCE:2
END:VEVENT
BEGIN:VEVENT
UID:sabre-vobject-80df06bf-2407-48d4-84fa-386782cfbc8a
DTSTAMP:20260419T183431Z
SUMMARY:Tug Hill 4 Wheeler Adventure
DESCRIPTION:
X-ALT-DESC:FMTTYPE=text/html:<!DOCTYPE HTML PUBLIC "-//W3C//DTD HTML 3.2//E
 N"><HTML></HTML>
CREATED;TZID=America/New_York:20260417T141750
URL;VALUE=URI:https://drum.armymwr.com/calendar/event
DTSTART;TZID=America/New_York:20260807T080000
DTEND;TZID=America/New_York:20260807T150000
SEQUENCE:3
END:VEVENT
BEGIN:VEVENT
UID:sabre-vobject-b58a87a2-424d-4ddc-8d3b-e0902e9645f2
DTSTAMP:20260419T183431Z
SUMMARY:Tug Hill 4 Wheeler Adventure
DESCRIPTION:
X-ALT-DESC:FMTTYPE=text/html:<!DOCTYPE HTML PUBLIC "-//W3C//DTD HTML 3.2//E
 N"><HTML></HTML>
CREATED;TZID=America/New_York:20260417T141750
URL;VALUE=URI:https://drum.armymwr.com/calendar/event
DTSTART;TZID=America/New_York:20260828T080000
DTEND;TZID=America/New_York:20260828T150000
SEQUENCE:4
END:VEVENT
BEGIN:VEVENT
UID:sabre-vobject-ab71c011-47fb-447c-822b-d47aca74a560
DTSTAMP:20260419T183431Z
SUMMARY:Tug Hill 4 Wheeler Adventure
DESCRIPTION:
X-ALT-DESC:FMTTYPE=text/html:<!DOCTYPE HTML PUBLIC "-//W3C//DTD HTML 3.2//E
 N"><HTML></HTML>
CREATED;TZID=America/New_York:20260417T141750
URL;VALUE=URI:https://drum.armymwr.com/calendar/event
DTSTART;TZID=America/New_York:20260904T080000
DTEND;TZID=America/New_York:20260904T150000
SEQUENCE:5
END:VEVENT
BEGIN:VEVENT
UID:sabre-vobject-876eb1a6-b00b-41b5-bc4d-2adf32939f11
DTSTAMP:20260419T183431Z
SUMMARY:Tug Hill 4 Wheeler Adventure
DESCRIPTION:
X-ALT-DESC:FMTTYPE=text/html:<!DOCTYPE HTML PUBLIC "-//W3C//DTD HTML 3.2//E
 N"><HTML></HTML>
CREATED;TZID=America/New_York:20260417T141750
URL;VALUE=URI:https://drum.armymwr.com/calendar/event
DTSTART;TZID=America/New_York:20260918T080000
DTEND;TZID=America/New_York:20260918T150000
SEQUENCE:6
END:VEVENT
BEGIN:VEVENT
UID:sabre-vobject-afb6b04f-baa1-458f-a959-fbfb1dfdd3e7
DTSTAMP:20260419T183431Z
SUMMARY:Tug Hill 4 Wheeler Adventure
DESCRIPTION:
X-ALT-DESC:FMTTYPE=text/html:<!DOCTYPE HTML PUBLIC "-//W3C//DTD HTML 3.2//E
 N"><HTML></HTML>
CREATED;TZID=America/New_York:20260417T141750
URL;VALUE=URI:https://drum.armymwr.com/calendar/event
DTSTART;TZID=America/New_York:20261002T080000
DTEND;TZID=America/New_York:20261002T150000
SEQUENCE:7
END:VEVENT
BEGIN:VEVENT
UID:sabre-vobject-84a688ec-ad6f-46b2-afcb-6ad329decdcc
DTSTAMP:20260419T183431Z
SUMMARY:Tug Hill 4 Wheeler Adventure
DESCRIPTION:
X-ALT-DESC:FMTTYPE=text/html:<!DOCTYPE HTML PUBLIC "-//W3C//DTD HTML 3.2//E
 N"><HTML></HTML>
CREATED;TZID=America/New_York:20260417T141750
URL;VALUE=URI:https://drum.armymwr.com/calendar/event
DTSTART;TZID=America/New_York:20261009T080000
DTEND;TZID=America/New_York:20261009T150000
SEQUENCE:8
END:VEVENT
END:VCALENDAR
