BEGIN:VCALENDAR
VERSION:2.0
PRODID:-//Sabre//Sabre VObject 4.5.8//EN
CALSCALE:GREGORIAN
BEGIN:VEVENT
UID:sabre-vobject-459cd698-98df-413b-a7cd-ffd46bf01448
DTSTAMP:20260424T142022Z
SUMMARY:Page Turner's Book Club
DESCRIPTION:Socialize and discuss books each month at the library.\n
X-ALT-DESC:FMTTYPE=text/html:<!DOCTYPE HTML PUBLIC "-//W3C//DTD HTML 3.2//E
 N"><HTML><p>Socialize and discuss books each month at the library.</p>\n</
 HTML>
CREATED;TZID=America/New_York:20191209T113229
URL;VALUE=URI:https://drum.armymwr.com/calendar/event
DTSTART;TZID=America/New_York:20191204T183000
DTEND;TZID=America/New_York:20191204T193000
SEQUENCE:0
END:VEVENT
BEGIN:VEVENT
UID:sabre-vobject-a68cd976-d7be-4c95-80a1-7b6f8aa7c03f
DTSTAMP:20260424T142022Z
SUMMARY:Page Turner's Book Club
DESCRIPTION:Socialize and discuss books each month at the library.\n
X-ALT-DESC:FMTTYPE=text/html:<!DOCTYPE HTML PUBLIC "-//W3C//DTD HTML 3.2//E
 N"><HTML><p>Socialize and discuss books each month at the library.</p>\n</
 HTML>
CREATED;TZID=America/New_York:20191209T113229
URL;VALUE=URI:https://drum.armymwr.com/calendar/event
DTSTART;TZID=America/New_York:20200129T183000
DTEND;TZID=America/New_York:20200129T193000
SEQUENCE:1
END:VEVENT
END:VCALENDAR
