BEGIN:VCALENDAR
VERSION:2.0
PRODID:-//Sabre//Sabre VObject 4.5.8//EN
CALSCALE:GREGORIAN
BEGIN:VEVENT
UID:sabre-vobject-8ed85b5a-e75d-44a8-8af1-3204709ad4fb
DTSTAMP:20260424T142405Z
SUMMARY:Cornhole Tournament at Right Arm Night
DESCRIPTION:Compete against other 2-person teams at Right Arm Night!\n
X-ALT-DESC:FMTTYPE=text/html:<!DOCTYPE HTML PUBLIC "-//W3C//DTD HTML 3.2//E
 N"><HTML><p>Compete against other 2-person teams at Right Arm Night!</p>\n
 </HTML>
CREATED;TZID=America/New_York:20200115T135314
URL;VALUE=URI:https://drum.armymwr.com/calendar/event
DTSTART;TZID=America/New_York:20200131T160000
DTEND;TZID=America/New_York:20200131T190000
SEQUENCE:0
END:VEVENT
END:VCALENDAR
