BEGIN:VCALENDAR
VERSION:2.0
PRODID:-//Sabre//Sabre VObject 4.5.8//EN
CALSCALE:GREGORIAN
BEGIN:VEVENT
UID:sabre-vobject-13006b5a-b39c-4c56-a6da-2f95fa260b5b
DTSTAMP:20260424T161323Z
SUMMARY:Indoor 7 v 7 Soccer Tournament
DESCRIPTION:Play in our indoor tournament.\n
X-ALT-DESC:FMTTYPE=text/html:<!DOCTYPE HTML PUBLIC "-//W3C//DTD HTML 3.2//E
 N"><HTML><p>Play in our indoor tournament.</p>\n</HTML>
CREATED;TZID=America/New_York:20191205T133417
URL;VALUE=URI:https://drum.armymwr.com/calendar/event
DTSTART;TZID=America/New_York:20200125T090000
DTEND;TZID=America/New_York:20200125T100000
SEQUENCE:0
END:VEVENT
END:VCALENDAR
