BEGIN:VCALENDAR
VERSION:2.0
PRODID:-//Sabre//Sabre VObject 4.5.8//EN
CALSCALE:GREGORIAN
BEGIN:VEVENT
UID:sabre-vobject-f1bb1e28-c541-462a-b508-1b67d9b1506c
DTSTAMP:20260423T063519Z
SUMMARY:Writers Workshop for Children
DESCRIPTION:Children and families are welcome to come participate in a free
  writers workshop\, sponsored by WPBS-TV\, for children in Kindergarten th
 rough 3rd&nbsp\;grade!\n
X-ALT-DESC:FMTTYPE=text/html:<!DOCTYPE HTML PUBLIC "-//W3C//DTD HTML 3.2//E
 N"><HTML><p>Children and families are welcome to come participate in a fre
 e writers workshop\, sponsored by WPBS-TV\, for children in Kindergarten t
 hrough 3<sup>rd</sup>&nbsp\;grade!</p>\n</HTML>
CREATED;TZID=America/New_York:20200124T154943
URL;VALUE=URI:https://drum.armymwr.com/calendar/event
DTSTART;TZID=America/New_York:20200220T103000
DTEND;TZID=America/New_York:20200220T113000
SEQUENCE:0
END:VEVENT
END:VCALENDAR
