BEGIN:VCALENDAR
VERSION:2.0
PRODID:-//Sabre//Sabre VObject 4.5.8//EN
CALSCALE:GREGORIAN
BEGIN:VEVENT
UID:sabre-vobject-e03f3239-a62f-4641-a8fd-e33f244f8f82
DTSTAMP:20260425T121103Z
SUMMARY:Winter Blast
DESCRIPTION:Free food! Free ice skating and outdoor adventure!&nbsp\;\n
X-ALT-DESC:FMTTYPE=text/html:<!DOCTYPE HTML PUBLIC "-//W3C//DTD HTML 3.2//E
 N"><HTML><p>Free food! Free ice skating and outdoor adventure!&nbsp\;</p>\
 n</HTML>
CREATED;TZID=America/New_York:20200203T105536
URL;VALUE=URI:https://drum.armymwr.com/calendar/event
DTSTART;TZID=America/New_York:20200213T140000
DTEND;TZID=America/New_York:20200213T180000
SEQUENCE:0
END:VEVENT
END:VCALENDAR
