BEGIN:VCALENDAR
VERSION:2.0
PRODID:-//Sabre//Sabre VObject 4.5.8//EN
CALSCALE:GREGORIAN
BEGIN:VEVENT
UID:sabre-vobject-cb1beddd-1e17-46fa-a6c0-74fec86a05b3
DTSTAMP:20260419T133641Z
SUMMARY:Axe Throwing Tournament 
DESCRIPTION:
X-ALT-DESC:FMTTYPE=text/html:<!DOCTYPE HTML PUBLIC "-//W3C//DTD HTML 3.2//E
 N"><HTML></HTML>
CREATED;TZID=America/New_York:20230301T083236
URL;VALUE=URI:https://drum.armymwr.com/calendar/event
DTSTART;TZID=America/New_York:20230319T130000
DTEND;TZID=America/New_York:20230319T170000
SEQUENCE:0
END:VEVENT
END:VCALENDAR
